BEGIN:VCALENDAR
VERSION:2.0
PRODID:-//イルチブレインヨガ天神スタジオ - ECPv6.15.20//NONSGML v1.0//EN
CALSCALE:GREGORIAN
METHOD:PUBLISH
X-ORIGINAL-URL:https://ilchibrainyoga-tenjin.com
X-WR-CALDESC:イルチブレインヨガ天神スタジオ のイベント
REFRESH-INTERVAL;VALUE=DURATION:PT1H
X-Robots-Tag:noindex
X-PUBLISHED-TTL:PT1H
BEGIN:VTIMEZONE
TZID:Asia/Tokyo
BEGIN:STANDARD
TZOFFSETFROM:+0900
TZOFFSETTO:+0900
TZNAME:JST
DTSTART:20240101T000000
END:STANDARD
END:VTIMEZONE
BEGIN:VEVENT
DTSTART;TZID=Asia/Tokyo:20250816T100000
DTEND;TZID=Asia/Tokyo:20250816T210000
DTSTAMP:20260420T154525
CREATED:20250809T024136Z
LAST-MODIFIED:20250809T072704Z
UID:6667-1755338400-1755378000@ilchibrainyoga-tenjin.com
SUMMARY:8/16（土）感情コーチングのご案内。
DESCRIPTION:人の知能はIQだけでは測れません。\nまたEQだけでも分からないご自分の特性を知り、まだ開発できていない潜在能力を開き、仕事も人間関係もより豊かにチェンジできるきっかけになればと思います。 \n開催日:8/16（土） \n時間：9:50〜、13:50〜、18:50〜、約2時間 \n会場名：イルチブレインヨガ天神スタジオ \n会場住所：福岡市中央区天神3-4-2\n　　　　　高橋天神ビル6階 \n参加費：1000円（要予約） \n問合せ電話：092-714-1883 \nスタジオLINE：https://lin.ee/VQ139go \nトレーナー：板村美沙子（九州エリアマネージャー） \n持ち物：飲み物、動きやすい服装、タオル\nその他：靴下の着用をお願い致します。\n（ヨガマットは無料貸出し致します。） \nお気軽にお問い合わせ下さいね。
URL:https://ilchibrainyoga-tenjin.com/event/8-16%ef%bc%88%e5%9c%9f%ef%bc%89%e6%84%9f%e6%83%85%e3%82%b3%e3%83%bc%e3%83%81%e3%83%b3%e3%82%b0%e3%81%ae%e3%81%94%e6%a1%88%e5%86%85%e3%80%82/
CATEGORIES:イベント,セミナー,ヨガ体験
ATTACH;FMTTYPE=image/jpeg:https://ilchibrainyoga-tenjin.com/wp-content/uploads/2025/08/IMG_4618.jpeg
END:VEVENT
END:VCALENDAR